Workbook

Sheet Užsakovo duomenys
A6: UŽSAKOVO DUOMENYS
A9: Įmonės pavadinimas
A10: Adresas
A11: Telefonas
A12: El.paštas:
A13: Data
A14: Projektas
A16: Nuolaida, %

Sheet Lexa
A1: Nuotrauka | B1: Pavadinimas | C1: Kodas | D1: Spalva | E1: Ilgis, m | F1: Kaina EUR Bazinė | G1: Kaina su nuolaida | H1: Reikiamas kiekis, vnt | I1: Suma su nuolaida | J1: Profilio pjūvio vieta
B2: Sieninis profilis su LED pajungimu
B3: Lexa vertikalus sieninis profilis | C3: RP-55050.6 | D3: Juoda mat. | E3: 2656 | F3: 70 | G3: =F3*(1-'Užsakovo duomenys'!$B$16/100) -> 70 | I3: =G3*H3 -> 0
B4: Lexa tvirtinimo detalė prie sienos su reguliavimo varžtu | C4: HE-10 | D4: Cinko | E4: 1vnt | F4: 1.6 | G4: =F4*(1-'Užsakovo duomenys'!$B$16/100) -> 1.6 | I4: =G4*H4 -> 0
B5: Lexa pado plokštelė su įsukama kojele ir savisriegiais | C5: HE-03 | D5: Cinko | E5: 1vnt | F5: 1.6 | G5: =F5*(1-'Užsakovo duomenys'!$B$16/100) -> 1.6 | I5: =G5*H5 -> 0
B6: Plokštės tvirtinimo laikiklis prie LEXA vertikalaus profilio 18/19mm | C6: HE-18-19 | D6: Juoda | E6: 1vnt | F6: 0.9 | G6: =F6*(1-'Užsakovo duomenys'!$B$16/100) -> 0.9 | I6: =G6*H6 -> 0
B7: Lexa vertikalaus profilio kampinė jungtis | C7: Cor 18-19 | D7: Juoda | E7: 1vnt | F7: 3 | G7: =F7*(1-'Užsakovo duomenys'!$B$16/100) -> 3 | I7: =G7*H7 -> 0
B8: Medvarščiai skirti lentynų ir skydo laikikliams prisukti. | C8: 3x13 | D8: Cinko | E8: 100vnt | F8: 3 | G8: =F8*(1-'Užsakovo duomenys'!$B$16/100) -> 3 | I8: =G8*H8 -> 0
B9: Dangtelis medvarsčio galvutei | C9: D6,2-1,9 | D9: Šampano | E9: 25vnt | F9: 4.9 | G9: =F9*(1-'Užsakovo duomenys'!$B$16/100) -> 4.9 | I9: =G9*H9 -> 0
B10: Sieninis profilis be LED pajungimo | G10: =F10*(1-'Užsakovo duomenys'!$B$16/100) -> 0
B11: HERO vertikalus profilis | C11: RP-46248.6 | D11: Juoda mat. | E11: 3.008 | F11: 64 | G11: =F11*(1-'Užsakovo duomenys'!$B$16/100) -> 64 | I11: =G11*H11 -> 0
B12: HERO tvirtinimo detalė prie sienos su varžtu | C12: HE-01 | D12: Cinko | E12: 1vnt | F12: 1.5 | G12: =F12*(1-'Užsakovo duomenys'!$B$16/100) -> 1.5 | I12: =G12*H12 -> 0
B13: HERO vertikalaus profilio kampinė jungtis | C13: HE-20 | D13: Juoda | E13: 1vnt | F13: 2.7 | G13: =F13*(1-'Užsakovo duomenys'!$B$16/100) -> 2.7 | I13: =G13*H13 -> 0
B14: HERO pado plokštelė su įsukama kojele ir savisriegiais | C14: HE-02 | D14: Cinko | E14: 1vnt | F14: 1.5 | G14: =F14*(1-'Užsakovo duomenys'!$B$16/100) -> 1.5 | I14: =G14*H14 -> 0
B15: Plokštės tvirtinimo laikiklis prie HERO vertikalaus profilio 18/19mm | C15: HE-18-19 | D15: Juoda | E15: 1vnt | F15: 0.9 | G15: =F15*(1-'Užsakovo duomenys'!$B$16/100) -> 0.9 | I15: =G15*H15 -> 0
B16: Stiklo/plytelės rėmas | G16: =F16*(1-'Užsakovo duomenys'!$B$16/100) -> 0 | I16: =G16*H16 -> 0
B17: Stiklo, plytelės rėmo profilis | C17: RP-44435.6 | D17: Juoda mat. | E17: 6 | F17: 54 | G17: =F17*(1-'Užsakovo duomenys'!$B$16/100) -> 54 | I17: =G17*H17 -> 0
B18: Stiklo, plytelės rėmo profilis su šerdimi | C18: RP-44434.6 | D18: Juoda mat. | E18: 6 | F18: 58 | G18: =F18*(1-'Užsakovo duomenys'!$B$16/100) -> 58 | I18: =G18*H18 -> 0
B19: Pakėlimo padelis prie stiklo rėmo | C19: HE-2 | D19: Juoda mat. | E19: vnt | F19: 0.9 | G19: =F19*(1-'Užsakovo duomenys'!$B$16/100) -> 0.9 | I19: =G19*H19 -> 0
B20: Savisriegiai skirti susukti aliuminio rėmą pus.galva, 30vnt | C20: 3,9x32 | D20: Cinko | E20: 1kompl | F20: 4 | G20: =F20*(1-'Užsakovo duomenys'!$B$16/100) -> 4 | I20: =G20*H20 -> 0
B21: Led | G21: =F21*(1-'Užsakovo duomenys'!$B$16/100) -> 0 | I21: =G21*H21 -> 0
B22: Led profilis | C22: RP-55048 | D22: Šampano | E22: 3m | F22: 23 | G22: =F22*(1-'Užsakovo duomenys'!$B$16/100) -> 23 | I22: =G22*H22 -> 0
B23: LED profilio uždengimo dangtelis | C23: LE-73 | D23: Balta | E23: 3m | F23: 7 | G23: =F23*(1-'Užsakovo duomenys'!$B$16/100) -> 7 | I23: =G23*H23 -> 0
B24: LED kontaktinis pvc profilis 2,6m ir vario juostele 2m. | C24: Prof-7 | D24: Pvc/varis | E24: 1vnt | F24: 35 | G24: =F24*(1-'Užsakovo duomenys'!$B$16/100) -> 35 | I24: =G24*H24 -> 0
B25: Dvipusė lipni juosta 6x0,3mm | C25: LP-0.3x6 | D25: Skaidri | E25: 50m | F25: 15 | G25: =F25*(1-'Užsakovo duomenys'!$B$16/100) -> 15 | I25: =G25*H25 -> 0
B26: Lexa pado plokštelės dangtelis | C26: Pad-01 | D26: Juoda | E26: 1vnt | F26: 1.6 | G26: =F26*(1-'Užsakovo duomenys'!$B$16/100) -> 1.6 | I26: =G26*H26 -> 0
B27: Kontaktinė detalė plokštės lentynai į LED profilį | C27: LED-PL | D27: Pilka | E27: 1vnt | F27: 1 | G27: =F27*(1-'Užsakovo duomenys'!$B$16/100) -> 1 | I27: =G27*H27 -> 0
B28: Kontaktinė detalė stiklo lentynai į LED profilį | C28: LED-ST02 | D28: Pilka | E28: 1vnt | F28: 1.2 | G28: =F28*(1-'Užsakovo duomenys'!$B$16/100) -> 1.2 | I28: =G28*H28 -> 0
B29: Laikikliai 18mm plokštei | G29: =F29*(1-'Užsakovo duomenys'!$B$16/100) -> 0 | I29: =G29*H29 -> 0
B30: Laikiklis 18mm plokštei kairinis 400mm | C30: L400-30 | D30: Šampano | E30: 1vnt | F30: 15 | G30: =F30*(1-'Užsakovo duomenys'!$B$16/100) -> 15 | I30: =G30*H30 -> 0
B31: Laikiklis 18mm plokštei centrinis 400mm | C31: C400-30 | D31: Šampano | E31: 1vnt | F31: 15 | G31: =F31*(1-'Užsakovo duomenys'!$B$16/100) -> 15 | I31: =G31*H31 -> 0
B32: Laikiklis 18mm plokštei dešininis 400mm | C32: R400-30 | D32: Šampano | E32: 1vnt | F32: 15 | G32: =F32*(1-'Užsakovo duomenys'!$B$16/100) -> 15 | I32: =G32*H32 -> 0
B33: Laikiklis 18mm plokštei kairinis 500mm | C33: L500-30 | D33: Šampano | E33: 1vnt | F33: 16 | G33: =F33*(1-'Užsakovo duomenys'!$B$16/100) -> 16 | I33: =G33*H33 -> 0
B34: Laikiklis 18mm plokštei centrinis 500mm | C34: C500-30 | D34: Šampano | E34: 1vnt | F34: 16 | G34: =F34*(1-'Užsakovo duomenys'!$B$16/100) -> 16 | I34: =G34*H34 -> 0
B35: Laikiklis 18mm plokštei dešininis 500mm | C35: R500-30 | D35: Šampano | E35: 1vnt | F35: 16 | G35: =F35*(1-'Užsakovo duomenys'!$B$16/100) -> 16 | I35: =G35*H35 -> 0
B36: Laikikliai 36mm plokštei | G36: =F36*(1-'Užsakovo duomenys'!$B$16/100) -> 0
B37: Laikiklis 36mm plokštei kairinis 400mm | C37: L400-35.5 | D37: Šampano | E37: 1vnt | F37: 17 | G37: =F37*(1-'Užsakovo duomenys'!$B$16/100) -> 17 | I37: =G37*H37 -> 0
B38: Laikiklis 36mm plokštei centrinis 400mm | C38: C400-35.5 | D38: Šampano | E38: 1vnt | F38: 17 | G38: =F38*(1-'Užsakovo duomenys'!$B$16/100) -> 17 | I38: =G38*H38 -> 0
B39: Laikiklis 36mm plokštei dešininis 400mm | C39: R400-35.5 | D39: Šampano | E39: 1vnt | F39: 17 | G39: =F39*(1-'Užsakovo duomenys'!$B$16/100) -> 17 | I39: =G39*H39 -> 0
B40: Laikiklis 36mm plokštei kairinis 500mm | C40: L500-35.5 | D40: Šampano | E40: 1vnt | F40: 18 | G40: =F40*(1-'Užsakovo duomenys'!$B$16/100) -> 18 | I40: =G40*H40 -> 0
...

Sheet Rimini
A1: Nuotrauka | B1: Pavadinimas | C1: Kodas | D1: Spalva | E1: Ilgis, m | F1: Kaina EUR Bazinė | G1: Kaina su nuolaida | H1: Užsakomas kiekis, vnt | I1: Suma su nuolaida | J1: Profilio pjūvio vieta
B2: Atidaromų durų vertikalus, horizontalus profilis | C2: RP-44200.6 | D2: Juoda mat. | E2: 3 | F2: 59 | G2: =F2*(1-'Užsakovo duomenys'!$B$16/100) -> 59 | I2: =G2*H2 -> 0
C3: RP-44200.7 | D3: Šampano mat. | E3: 3 | F3: 59 | G3: =F3*(1-'Užsakovo duomenys'!$B$16/100) -> 59 | I3: =G3*H3 -> 0
C4: RP-44200.8 | D4: Aukso mat. | E4: 3 | F4: 59 | G4: =F4*(1-'Užsakovo duomenys'!$B$16/100) -> 59 | I4: =G4*H4 -> 0
B5: Atidaromų durų vertikalus profilis su dešinės pusės rankenėle | C5: RP-44260.6R | D5: Juoda mat. | E5: 3 | F5: 95 | G5: =F5*(1-'Užsakovo duomenys'!$B$16/100) -> 95 | I5: =G5*H5 -> 0
C6: RP-44260.7R | D6: Šampano mat. | E6: 3 | F6: 95 | G6: =F6*(1-'Užsakovo duomenys'!$B$16/100) -> 95 | I6: =G6*H6 -> 0
C7: RP-44260.8R | D7: Aukso mat. | E7: 3 | F7: 95 | G7: =F7*(1-'Užsakovo duomenys'!$B$16/100) -> 95 | I7: =G7*H7 -> 0
B8: Atidaromų durų vertikalus profilis su kairės pusės rankenėle | C8: RP-44260.6L | D8: Juoda mat. | E8: 3 | F8: 95 | G8: =F8*(1-'Užsakovo duomenys'!$B$16/100) -> 95 | I8: =G8*H8 -> 0
C9: RP-44260.7L | D9: Šampano mat. | E9: 3 | F9: 95 | G9: =F9*(1-'Užsakovo duomenys'!$B$16/100) -> 95 | I9: =G9*H9 -> 0
C10: RP-44260.8L | D10: Aukso mat. | E10: 3 | F10: 95 | G10: =F10*(1-'Užsakovo duomenys'!$B$16/100) -> 95 | I10: =G10*H10 -> 0
B11: Paslėpti įfrezuojami lankstai dešinės ir kairės pusės | C11: DS 30DL | D11: Juoda | E11: 1kompl | F11: 108 | G11: =F11*(1-'Užsakovo duomenys'!$B$16/100) -> 108 | I11: =G11*H11 -> 0
B12: Aliuminio kampai su varžtais, skirti montuoti lankstus į RIMINI aliuminio duris, dešinės ir kairės pusės | C12: DS 30DLC | D12: Cinko | E12: 1kompl | F12: 13.6 | G12: =F12*(1-'Užsakovo duomenys'!$B$16/100) -> 13.6 | I12: =G12*H12 -> 0
B13: Plastikinis kampas skirtas RIMINI durims suklijuoti, 2vnt. | C13: RI-50 | D13: Juodas | E13: 1kompl | F13: 13.8 | G13: =F13*(1-'Užsakovo duomenys'!$B$16/100) -> 13.8 | I13: =G13*H13 -> 0
B14: Paslėpto, įfrezuojamo lanksto fiksavimo detalė į 25mm plokštę, su varžtais, 2 vnt. | C14: DS-30 | D14: Cinko | E14: 1kompl | F14: 6.6 | G14: =F14*(1-'Užsakovo duomenys'!$B$16/100) -> 6.6 | I14: =G14*H14 -> 0
G15: Suma be PVM: | I15: =SUM(I2:I14) -> 0
G16: Suma su PVM: | I16: =I15*1.21 -> 0

Sheet Modena
A1: Nuotrauka | B1: Pavadinimas | C1: Kodas | D1: Spalva | E1: Ilgis, m | F1: Kaina EUR Bazinė | G1: Kaina su nuolaida | H1: Užsakomas kiekis, vnt | I1: Suma su nuolaida | J1: Profilio pjūvio vieta
B2: Viršutinis dvigubas bėgelis | C2: M-29378.1 | D2: Sidabro mat. | E2: 5/2,5 | F2: 84 | G2: =F2*(1-'Užsakovo duomenys'!$B$16/100) -> 84 | I2: =G2*H2 -> 0
C3: M-29378.7 | D3: Šampano mat. | E3: 5/2,5 | F3: 130 | G3: =F3*(1-'Užsakovo duomenys'!$B$16/100) -> 130 | I3: =G3*H3 -> 0
C4: M-29378.5 | D4: Balta mat. | E4: 5/2,5 | F4: 110 | G4: =F4*(1-'Užsakovo duomenys'!$B$16/100) -> 110 | I4: =G4*H4 -> 0
C5: M-29378.6 | D5: Juoda mat. | E5: 5/2,5 | F5: 130 | G5: =F5*(1-'Užsakovo duomenys'!$B$16/100) -> 130 | I5: =G5*H5 -> 0
B6: Apatinis dvigubas bėgelis | C6: M-29377.1 | D6: Sidabro mat. | E6: 5/2,5 | F6: 44 | G6: =F6*(1-'Užsakovo duomenys'!$B$16/100) -> 44 | I6: =G6*H6 -> 0
C7: M-29377.7 | D7: Šampano mat. | E7: 5/2,5 | F7: 68 | G7: =F7*(1-'Užsakovo duomenys'!$B$16/100) -> 68 | I7: =G7*H7 -> 0
C8: M-29377.5 | D8: Balta mat. | E8: 5/2,5 | F8: 58 | G8: =F8*(1-'Užsakovo duomenys'!$B$16/100) -> 58 | I8: =G8*H8 -> 0
C9: M-29377.6 | D9: Juoda mat. | E9: 5/2,5 | F9: 68 | G9: =F9*(1-'Užsakovo duomenys'!$B$16/100) -> 68 | I9: =G9*H9 -> 0
B10: ESTE | C10: RP-33780.1 | D10: Sidabro mat. | E10: 2.9 | F10: 27.5 | G10: =F10*(1-'Užsakovo duomenys'!$B$16/100) -> 27.5 | I10: =G10*H10 -> 0
C11: RP-33780.4 | D11: Šampano mat. | E11: 2.9 | F11: 34.5 | G11: =F11*(1-'Užsakovo duomenys'!$B$16/100) -> 34.5 | I11: =G11*H11 -> 0
C12: RP-33780.5 | D12: Balta mat. | E12: 2.9 | F12: 29 | G12: =F12*(1-'Užsakovo duomenys'!$B$16/100) -> 29 | I12: =G12*H12 -> 0
C13: RP-33780.6 | D13: Juoda mat. | E13: 2.9 | F13: 34.5 | G13: =F13*(1-'Užsakovo duomenys'!$B$16/100) -> 34.5 | I13: =G13*H13 -> 0
B14: STILO | C14: RP-34529.1 | D14: Sidabro mat. | E14: 2.9 | F14: 27.5 | G14: =F14*(1-'Užsakovo duomenys'!$B$16/100) -> 27.5 | I14: =G14*H14 -> 0
C15: RP-34529.4 | D15: Šampano mat. | E15: 2.9 | F15: 34.5 | G15: =F15*(1-'Užsakovo duomenys'!$B$16/100) -> 34.5 | I15: =G15*H15 -> 0
C16: RP-34529.5 | D16: Balta mat. | E16: 2.9 | F16: 29 | G16: =F16*(1-'Užsakovo duomenys'!$B$16/100) -> 29 | I16: =G16*H16 -> 0
C17: RP-34529.6 | D17: Juoda mat. | E17: 2.9 | F17: 34.5 | G17: =F17*(1-'Užsakovo duomenys'!$B$16/100) -> 34.5 | I17: =G17*H17 -> 0
B18: Horizontalus, jungiamasis profilis 5 mm | C18: RP-34489.1 | D18: Sidabro mat. | E18: 5 | F18: 18 | G18: =F18*(1-'Užsakovo duomenys'!$B$16/100) -> 18 | I18: =G18*H18 -> 0
C19: RP-34489.4 | D19: Šampano mat. | E19: 5 | F19: 25 | G19: =F19*(1-'Užsakovo duomenys'!$B$16/100) -> 25 | I19: =G19*H19 -> 0
C20: RP-34489.5 | D20: Balta mat. | E20: 5 | F20: 20 | G20: =F20*(1-'Užsakovo duomenys'!$B$16/100) -> 20 | I20: =G20*H20 -> 0
C21: RP-34489.6 | D21: Juoda mat. | E21: 5 | F21: 25 | G21: =F21*(1-'Užsakovo duomenys'!$B$16/100) -> 25 | I21: =G21*H21 -> 0
B22: Priklijuojamas 3D dekoratyvinis profilis 8 mm | C22: RP-35633.1 | D22: Sidabro mat. | E22: 5.7 | F22: 24 | G22: =F22*(1-'Užsakovo duomenys'!$B$16/100) -> 24 | I22: =G22*H22 -> 0
C23: RP-35633.7 | D23: Šampano mat. | E23: 5.7 | F23: 37 | G23: =F23*(1-'Užsakovo duomenys'!$B$16/100) -> 37 | I23: =G23*H23 -> 0
C24: RP-35633.5 | D24: Balta mat. | E24: 5.7 | F24: 28 | G24: =F24*(1-'Užsakovo duomenys'!$B$16/100) -> 28 | I24: =G24*H24 -> 0
C25: RP-35633.6 | D25: Juoda mat. | E25: 5.7 | F25: 37 | G25: =F25*(1-'Užsakovo duomenys'!$B$16/100) -> 37 | I25: =G25*H25 -> 0
B26: Rėmas stiklui Vertikalus profilis | C26: RP-46526 | D26: Sidabro mat. | E26: 2.9 | F26: 9.5 | G26: =F26*(1-'Užsakovo duomenys'!$B$16/100) -> 9.5 | I26: =G26*H26 -> 0
B27: Rėmas stiklui Horizontalus profilis siauras | C27: XBX-416P.1 | D27: Sidabro mat. | E27: 3 | F27: 17 | G27: =F27*(1-'Užsakovo duomenys'!$B$16/100) -> 17 | I27: =G27*H27 -> 0
B28: Rėmas stiklui Horizontalus profilis platus | C28: RP-46045 | D28: Sidabro mat. | E28: 2.95 | F28: 37 | G28: =F28*(1-'Užsakovo duomenys'!$B$16/100) -> 37 | I28: =G28*H28 -> 0
B29: Rankenėlė prie Stilo 250 mm | C29: R34463.1-25 | D29: Sidabro mat. | E29: vnt. | F29: 13 | G29: =F29*(1-'Užsakovo duomenys'!$B$16/100) -> 13 | I29: =G29*H29 -> 0
C30: R34463.4-25 | D30: Šampano mat. | E30: vnt. | F30: 16 | G30: =F30*(1-'Užsakovo duomenys'!$B$16/100) -> 16 | I30: =G30*H30 -> 0
C31: R34463.5-25 | D31: Balta mat. | E31: vnt. | F31: 14 | G31: =F31*(1-'Užsakovo duomenys'!$B$16/100) -> 14 | I31: =G31*H31 -> 0
C32: R34463.6-25 | D32: Juoda mat. | E32: vnt. | F32: 16 | G32: =F32*(1-'Užsakovo duomenys'!$B$16/100) -> 16 | I32: =G32*H32 -> 0
B33: Rankenėlė prie Stilo 1200 mm | C33: R34463.1-120 | D33: Sidabro mat. | E33: vnt. | F33: 19 | G33: =F33*(1-'Užsakovo duomenys'!$B$16/100) -> 19 | I33: =G33*H33 -> 0
C34: R34463.4-120 | D34: Šampano mat. | E34: vnt. | F34: 24 | G34: =F34*(1-'Užsakovo duomenys'!$B$16/100) -> 24 | I34: =G34*H34 -> 0
C35: R34463.5-120 | D35: Balta mat. | E35: vnt. | F35: 22 | G35: =F35*(1-'Užsakovo duomenys'!$B$16/100) -> 22 | I35: =G35*H35 -> 0
C36: R34463.6-120 | D36: Juoda mat. | E36: vnt. | F36: 24 | G36: =F36*(1-'Užsakovo duomenys'!$B$16/100) -> 24 | I36: =G36*H36 -> 0
B37: Rankenėlė prie Este/Lain 250 mm | C37: RP-35633.1-25 | D37: Sidabro mat. | E37: vnt. | F37: 13 | G37: =F37*(1-'Užsakovo duomenys'!$B$16/100) -> 13 | I37: =G37*H37 -> 0
C38: RP-35633.7-25 | D38: Šampano mat. | E38: vnt. | F38: 16 | G38: =F38*(1-'Užsakovo duomenys'!$B$16/100) -> 16 | I38: =G38*H38 -> 0
C39: RP-35633.5-25 | D39: Balta mat. | E39: vnt. | F39: 14 | G39: =F39*(1-'Užsakovo duomenys'!$B$16/100) -> 14 | I39: =G39*H39 -> 0
C40: RP-35633.6-25 | D40: Juoda mat. | E40: vnt. | F40: 16 | G40: =F40*(1-'Užsakovo duomenys'!$B$16/100) -> 16 | I40: =G40*H40 -> 0
...

Sheet Montella
A1: Nuotrauka | B1: Pavadinimas | C1: Kodas | D1: Spalva | E1: Ilgis, m | F1: Kaina EUR Bazinė | G1: Kaina su nuolaida | H1: Užsakomas kiekis, vnt | I1: Suma su nuolaida | J1: Profilio pjūvio vieta
B2: Viršutinis dvigubas bėgelis | C2: M-29378.6 | D2: Juoda mat. | E2: 5 | F2: 130 | G2: =F2*(1-'Užsakovo duomenys'!$B$16/100) -> 130 | I2: =G2*H2 -> 0
C3: M-29378.7 | D3: Šampano mat. | E3: 5 | F3: 130 | G3: =F3*(1-'Užsakovo duomenys'!$B$16/100) -> 130 | I3: =G3*H3 -> 0
C4: M-29378.8 | D4: Aukso mat. | E4: 5 | F4: 130 | G4: =F4*(1-'Užsakovo duomenys'!$B$16/100) -> 130 | I4: =G4*H4 -> 0
B5: Apatinis dvigubas bėgelis | C5: M-29377.6 | D5: Juoda mat. | E5: 5 | F5: 68 | G5: =F5*(1-'Užsakovo duomenys'!$B$16/100) -> 68 | I5: =G5*H5 -> 0
C6: M-29377.7 | D6: Šampano mat. | E6: 5 | F6: 68 | G6: =F6*(1-'Užsakovo duomenys'!$B$16/100) -> 68 | I6: =G6*H6 -> 0
C7: M-29377.8 | D7: Aukso mat. | E7: 5 | F7: 68 | G7: =F7*(1-'Užsakovo duomenys'!$B$16/100) -> 68 | I7: =G7*H7 -> 0
B8: Vertikalus stumdomų durų profilis | C8: RP-46035.6 | D8: Juoda mat. | E8: 6 | F8: 135 | G8: =F8*(1-'Užsakovo duomenys'!$B$16/100) -> 135 | I8: =G8*H8 -> 0
C9: RP-46035.7 | D9: Šampano mat. | E9: 6 | F9: 135 | G9: =F9*(1-'Užsakovo duomenys'!$B$16/100) -> 135 | I9: =G9*H9 -> 0
C10: RP-46035.8 | D10: Aukso mat. | E10: 6 | F10: 135 | G10: =F10*(1-'Užsakovo duomenys'!$B$16/100) -> 135 | I10: =G10*H10 -> 0
B11: Vertikalus stumdomų durų profilis su dešinės pusės rankenėle | C11: RP-46249.6R | D11: Juoda mat. | E11: 3.1 | F11: 131 | G11: =F11*(1-'Užsakovo duomenys'!$B$16/100) -> 131 | I11: =G11*H11 -> 0
C12: RP-46249.7R | D12: Šampano mat. | E12: 3.1 | F12: 131 | G12: =F12*(1-'Užsakovo duomenys'!$B$16/100) -> 131 | I12: =G12*H12 -> 0
C13: RP-46249.8R | D13: Aukso mat. | E13: 3.1 | F13: 131 | G13: =F13*(1-'Užsakovo duomenys'!$B$16/100) -> 131 | I13: =G13*H13 -> 0
B14: Vertikalus stumdomų durų profilis su kairės pusės rankenėle | C14: RP-46249.6L | D14: Juoda mat. | E14: 3.1 | F14: 131 | G14: =F14*(1-'Užsakovo duomenys'!$B$16/100) -> 131 | I14: =G14*H14 -> 0
C15: RP-46249.7L | D15: Šampano mat. | E15: 3.1 | F15: 131 | G15: =F15*(1-'Užsakovo duomenys'!$B$16/100) -> 131 | I15: =G15*H15 -> 0
C16: RP-46249.8L | D16: Aukso mat. | E16: 3.1 | F16: 131 | G16: =F16*(1-'Užsakovo duomenys'!$B$16/100) -> 131 | I16: =G16*H16 -> 0
B17: Horizontalus viršutinis, apatinis durų profilis | C17: RP-46040.6 | D17: Juoda mat. | E17: 5 | F17: 70 | G17: =F17*(1-'Užsakovo duomenys'!$B$16/100) -> 70 | I17: =G17*H17 -> 0
C18: RP-46040.7 | D18: Šampano mat. | E18: 5 | F18: 70 | G18: =F18*(1-'Užsakovo duomenys'!$B$16/100) -> 70 | I18: =G18*H18 -> 0
C19: RP-46040.8 | D19: Aukso mat. | E19: 5 | F19: 70 | G19: =F19*(1-'Užsakovo duomenys'!$B$16/100) -> 70 | I19: =G19*H19 -> 0
B20: Jungiamasis durų profilis | C20: RP-46044.6 | D20: Juoda mat. | E20: 5 | F20: 46 | G20: =F20*(1-'Užsakovo duomenys'!$B$16/100) -> 46 | I20: =G20*H20 -> 0
C21: RP-46044.7 | D21: Šampano mat. | E21: 5 | F21: 46 | G21: =F21*(1-'Užsakovo duomenys'!$B$16/100) -> 46 | I21: =G21*H21 -> 0
C22: RP-46044.8 | D22: Aukso mat. | E22: 5 | F22: 46 | G22: =F22*(1-'Užsakovo duomenys'!$B$16/100) -> 46 | I22: =G22*H22 -> 0
B23: Stiklinių durų ratukų uždengimo profilis | C23: RP-46043.6 | D23: Juoda mat. | E23: 5 | F23: 100 | G23: =F23*(1-'Užsakovo duomenys'!$B$16/100) -> 100 | I23: =G23*H23 -> 0
C24: RP-46043.7 | D24: Šampano mat. | E24: 5 | F24: 100 | G24: =F24*(1-'Užsakovo duomenys'!$B$16/100) -> 100 | I24: =G24*H24 -> 0
C25: RP-46043.8 | D25: Aukso mat. | E25: 5 | F25: 100 | G25: =F25*(1-'Užsakovo duomenys'!$B$16/100) -> 100 | I25: =G25*H25 -> 0
B26: Plastikinis kampas skirtas Montella durims suklijuoti | C26: MO-300 | D26: Juoda | E26: 1vnt | F26: 7 | G26: =F26*(1-'Užsakovo duomenys'!$B$16/100) -> 7 | I26: =G26*H26 -> 0
B27: Stumdomų durų kampų uždengimo dangtelis | C27: MO-32 | D27: Juoda | E27: 1vnt | F27: 0.35 | G27: =F27*(1-'Užsakovo duomenys'!$B$16/100) -> 0.35 | I27: =G27*H27 -> 0
B28: Stumdomų durų atmušėjas | C28: MO-34 | D28: Juoda | E28: 1vnt | F28: 6 | G28: =F28*(1-'Užsakovo duomenys'!$B$16/100) -> 6 | I28: =G28*H28 -> 0
B29: Jungiamojo profilio įdėtinė plastikinė detalė su savisriegiu 2,9x6,5 | C29: MO-31 | D29: Juoda | E29: 1vnt | F29: 0.7 | G29: =F29*(1-'Užsakovo duomenys'!$B$16/100) -> 0.7 | I29: =G29*H29 -> 0
B30: Šablonas skirtas prisukti jungiamojo profilio įdėtinę detalę | C30: MOS-34 | D30: Pilka | E30: 1vnt | F30: 5 | G30: =F30*(1-'Užsakovo duomenys'!$B$16/100) -> 5 | I30: =G30*H30 -> 0
B31: Šepetėlis tarp durų | C31: SPP-10x8 | D31: Pilka | E31: 200 | F31: 100 | G31: =F31*(1-'Užsakovo duomenys'!$B$16/100) -> 100 | I31: =G31*H31 -> 0
B32: Šepetėlis tarp durų | C32: SPP-10x8m | D32: Pilka | E32: 1 | F32: 0.6 | G32: =F32*(1-'Užsakovo duomenys'!$B$16/100) -> 0.6 | I32: =G32*H32 -> 0
B33: Viršutiniai Hide A ratukai | C33: Hide A | D33: Cinko | E33: 1vnt | F33: 8.9 | G33: =F33*(1-'Užsakovo duomenys'!$B$16/100) -> 8.9 | I33: =G33*H33 -> 0
B34: Viršutiniai Hide B ratukai | C34: Hide B | D34: Cinko | E34: 1vnt | F34: 8.9 | G34: =F34*(1-'Užsakovo duomenys'!$B$16/100) -> 8.9 | I34: =G34*H34 -> 0
B35: Apatiniai ratukai | C35: RSB | D35: Cinko | E35: 1vnt | F35: 5.9 | G35: =F35*(1-'Užsakovo duomenys'!$B$16/100) -> 5.9 | I35: =G35*H35 -> 0
B36: Savisriegiai skirti prisukti ratukus Hide ir RSB, 100 vnt. | C36: 3,5x9,5 | D36: Cinko | E36: 1komp | F36: 3 | G36: =F36*(1-'Užsakovo duomenys'!$B$16/100) -> 3 | I36: =G36*H36 -> 0
B37: Pritraukėjas vienos pusės su gaudykle | C37: TA-80 | D37: Cinko | E37: 1vnt | F37: 18 | G37: =F37*(1-'Užsakovo duomenys'!$B$16/100) -> 18 | I37: =G37*H37 -> 0
B38: Pritraukėjas dviejų pusių | C38: TF-80(2) | D38: Cinko | E38: 1vnt | F38: 43 | G38: =F38*(1-'Užsakovo duomenys'!$B$16/100) -> 43 | I38: =G38*H38 -> 0
B39: Pritraukėjo gaudyklė | C39: YDH-05 | D39: Cinko | E39: 1vnt | F39: 2.5 | G39: =F39*(1-'Užsakovo duomenys'!$B$16/100) -> 2.5 | I39: =G39*H39 -> 0
G40: Suma be PVM: | I40: =SUM(I2:I39) -> 0
...

Sheet Fero Air
A1: Nuotrauka | B1: Pavadinimas | C1: Kodas | D1: Spalva | E1: Ilgis, m | F1: Kaina EUR Bazinė | G1: Kaina su nuolaida | H1: Užsakomas kiekis, vnt | I1: Suma su nuolaida | J1: Profilio pjūvio vieta
B2: Viršutinis FERO AIR bėgelis | C2: RP-46250.6 | D2: Juoda mat. | E2: 5 | F2: 116 | G2: =F2*(1-'Užsakovo duomenys'!$B$16/100) -> 116 | I2: =G2*H2 -> 0
C3: RP-46250.7 | D3: Šampano mat. | E3: 5 | F3: 116 | G3: =F3*(1-'Užsakovo duomenys'!$B$16/100) -> 116 | I3: =G3*H3 -> 0
C4: RP-46250.8 | D4: Aukso mat. | E4: 5 | F4: 116 | G4: =F4*(1-'Užsakovo duomenys'!$B$16/100) -> 116 | I4: =G4*H4 -> 0
B5: Viršutinio FERO AIR bėgelio uždengimo profilis | C5: RP-44683.6 | D5: Juoda mat. | E5: 5 | F5: 49 | G5: =F5*(1-'Užsakovo duomenys'!$B$16/100) -> 49 | I5: =G5*H5 -> 0
C6: RP-44683.7 | D6: Šampano mat. | E6: 5 | F6: 49 | G6: =F6*(1-'Užsakovo duomenys'!$B$16/100) -> 49 | I6: =G6*H6 -> 0
C7: RP-44683.8 | D7: Aukso mat. | E7: 5 | F7: 49 | G7: =F7*(1-'Užsakovo duomenys'!$B$16/100) -> 49 | I7: =G7*H7 -> 0
B8: Viršutinio FERO AIR bėgelio tvirtinimo prie sienos profilis | C8: XBX-634.1 | D8: Sidabras | E8: 5 | F8: 60 | G8: =F8*(1-'Užsakovo duomenys'!$B$16/100) -> 60 | I8: =G8*H8 -> 0
B9: Viršutinio bėgelio šoninis uždengimas viengubam bėgeliui (pripjaunamas) | C9: RP-44683.6/1 | D9: Juoda mat. | E9: 5 | F9: 11 | G9: =F9*(1-'Užsakovo duomenys'!$B$16/100) -> 11 | I9: =G9*H9 -> 0
C10: RP-44683.7/1 | D10: Šampano mat. | E10: 5 | F10: 11 | G10: =F10*(1-'Užsakovo duomenys'!$B$16/100) -> 11 | I10: =G10*H10 -> 0
C11: RP-44683.8/1 | D11: Aukso mat. | E11: 5 | F11: 11 | G11: =F11*(1-'Užsakovo duomenys'!$B$16/100) -> 11 | I11: =G11*H11 -> 0
B12: Viršutinio bėgelio šoninis uždengimas dvigubam bėgeliui | C12: RP-44683.6/2 | D12: Juoda mat. | E12: 5 | F12: 13 | G12: =F12*(1-'Užsakovo duomenys'!$B$16/100) -> 13 | I12: =G12*H12 -> 0
C13: RP-44683.7/2 | D13: Šampano mat. | E13: 5 | F13: 13 | G13: =F13*(1-'Užsakovo duomenys'!$B$16/100) -> 13 | I13: =G13*H13 -> 0
C14: RP-44683.8/2 | D14: Aukso mat. | E14: 5 | F14: 13 | G14: =F14*(1-'Užsakovo duomenys'!$B$16/100) -> 13 | I14: =G14*H14 -> 0
B15: Vertikalus profilis LAIN | C15: RP-45916.6 | D15: Juoda mat. | E15: 3 | F15: 57 | G15: =F15*(1-'Užsakovo duomenys'!$B$16/100) -> 57 | I15: =G15*H15 -> 0
C16: RP-45916.7 | D16: Šampano mat. | E16: 3 | F16: 57 | G16: =F16*(1-'Užsakovo duomenys'!$B$16/100) -> 57 | I16: =G16*H16 -> 0
C17: RP-45916.8 | D17: Aukso mat. | E17: 3 | F17: 57 | G17: =F17*(1-'Užsakovo duomenys'!$B$16/100) -> 57 | I17: =G17*H17 -> 0
B18: Rankenėle prie Lain /Este 250mm | C18: RP-35633.6-25 | D18: Juoda mat. | E18: 0,25 | F18: 16 | G18: =F18*(1-'Užsakovo duomenys'!$B$16/100) -> 16 | I18: =G18*H18 -> 0
C19: RP-35633.7-25 | D19: Šampano mat. | E19: 0,25 | F19: 16 | G19: =F19*(1-'Užsakovo duomenys'!$B$16/100) -> 16 | I19: =G19*H19 -> 0
C20: RP-35633.8-25 | D20: Aukso mat. | E20: 0,25 | F20: 16 | G20: =F20*(1-'Užsakovo duomenys'!$B$16/100) -> 16 | I20: =G20*H20 -> 0
B21: Rankenėle prie Lain /Este 1200mm | C21: RP-35633.6-120 | D21: Juoda mat. | E21: 1,2 | F21: 24 | G21: =F21*(1-'Užsakovo duomenys'!$B$16/100) -> 24 | I21: =G21*H21 -> 0
C22: RP-35633.7-120 | D22: Šampano mat. | E22: 1,2 | F22: 24 | G22: =F22*(1-'Užsakovo duomenys'!$B$16/100) -> 24 | I22: =G22*H22 -> 0
C23: RP-35633.8-120 | D23: Aukso mat. | E23: 1,2 | F23: 24 | G23: =F23*(1-'Užsakovo duomenys'!$B$16/100) -> 24 | I23: =G23*H23 -> 0
B24: Viršutinis horizontalus FERO AIR profilis | C24: RP-45918.6 | D24: Juoda mat. | E24: 5 | F24: 95 | G24: =F24*(1-'Užsakovo duomenys'!$B$16/100) -> 95 | I24: =G24*H24 -> 0
C25: RP-45918.7 | D25: Šampano mat. | E25: 5 | F25: 95 | G25: =F25*(1-'Užsakovo duomenys'!$B$16/100) -> 95 | I25: =G25*H25 -> 0
C26: RP-45918.8 | D26: Aukso mat. | E26: 5 | F26: 95 | G26: =F26*(1-'Užsakovo duomenys'!$B$16/100) -> 95 | I26: =G26*H26 -> 0
B27: Apatinis horizontalus FERO AIR profilis | C27: RP-45915.6 | D27: Juoda mat. | E27: 5 | F27: 86 | G27: =F27*(1-'Užsakovo duomenys'!$B$16/100) -> 86 | I27: =G27*H27 -> 0
C28: RP-45915.7 | D28: Šampano mat. | E28: 5 | F28: 86 | G28: =F28*(1-'Užsakovo duomenys'!$B$16/100) -> 86 | I28: =G28*H28 -> 0
C29: RP-45915.8 | D29: Aukso mat. | E29: 5 | F29: 86 | G29: =F29*(1-'Užsakovo duomenys'!$B$16/100) -> 86 | I29: =G29*H29 -> 0
B30: Priklijuojamas 3D dekoratyvinis profilis | C30: RP-35633.6 | D30: Juoda mat. | E30: 5.7 | F30: 37 | G30: =F30*(1-'Užsakovo duomenys'!$B$16/100) -> 37 | I30: =G30*H30 -> 0
C31: RP-35633.7 | D31: Šampano mat. | E31: 5.7 | F31: 37 | G31: =F31*(1-'Užsakovo duomenys'!$B$16/100) -> 37 | I31: =G31*H31 -> 0
C32: RP-35633.8 | D32: Aukso mat. | E32: 5.7 | F32: 37 | G32: =F32*(1-'Užsakovo duomenys'!$B$16/100) -> 37 | I32: =G32*H32 -> 0
B33: Dvipusė lipni juosta skirta priklijuoti 3D dekoratyvinį profilį | C33: LP-0,3X6 | D33: Bespalve | E33: 50 | F33: 14 | G33: =F33*(1-'Užsakovo duomenys'!$B$16/100) -> 14 | I33: =G33*H33 -> 0
B34: Dvipusė lipni juosta skirta priklijuoti rankenėlę Este/LAIN | C34: LP-0,8X6 | D34: Bespalve | E34: 10 | F34: 14 | G34: =F34*(1-'Užsakovo duomenys'!$B$16/100) -> 14 | I34: =G34*H34 -> 0
B35: Viršutinis FERO AIR ratukas | C35: MP-75 | D35: Cinko | E35: 1vnt | F35: 18 | G35: =F35*(1-'Užsakovo duomenys'!$B$16/100) -> 18 | I35: =G35*H35 -> 0
B36: Laikiklis FERO AIR ratukui tvirtinti su savisriegiais | C36: LI-07 | D36: Cinko | E36: 1kompl | F36: 3.5 | G36: =F36*(1-'Užsakovo duomenys'!$B$16/100) -> 3.5 | I36: =G36*H36 -> 0
B37: Pritraukėjas vienos pusės su gaudykle ir FERO AIR ratukų tvirtinimais | C37: TA-80AIR | D37: Cinko | E37: 1kompl | F37: 26.5 | G37: =F37*(1-'Užsakovo duomenys'!$B$16/100) -> 26.5 | I37: =G37*H37 -> 0
B38: Pritraukėjas dviejų pusių su dvejomis gaudyklėmis ir FERO AIR ratukų tvirtinimais | C38: TF-80(2)AIR | D38: Cinko | E38: 1kompl | F38: 52.5 | G38: =F38*(1-'Užsakovo duomenys'!$B$16/100) -> 52.5 | I38: =G38*H38 -> 0
B39: FERO AIR durų suveržimo detalės (vienoms durims) 4vnt su savisriegiais | C39: DSD-10 | D39: Juoda | E39: 1kompl | F39: 8 | G39: =F39*(1-'Užsakovo duomenys'!$B$16/100) -> 8 | I39: =G39*H39 -> 0
B40: FERO AIR stacionarių durų tvirtinimo detalės 2vnt su tvirtinimo savisriegiais | C40: DST-20 | D40: Juoda | E40: 1kompl | F40: 7 | G40: =F40*(1-'Užsakovo duomenys'!$B$16/100) -> 7 | I40: =G40*H40 -> 0
...
